BEGIN:VCALENDAR
VERSION:2.0
PRODID:icalendar-ruby
CALSCALE:GREGORIAN
METHOD:PUBLISH
BEGIN:VEVENT
DTSTAMP:20260422T232130Z
UID:67-1016419@mcglothentemplecogic.org
DTSTART:20261027T190000Z
DTEND:20261027T200000Z
CLASS:PUBLIC
CREATED:20260422T132904
DESCRIPTION:Noon day prayer
LAST-MODIFIED:20260422T132904
LOCATION:McGlothen Temple Church of God in Christ
SUMMARY:Noon Day Prayer
URL;VALUE=URI:https://mcglothentemplecogic.org/events/noon-day-prayer--67/2
 026-10-27
END:VEVENT
END:VCALENDAR
