BEGIN:VCALENDAR
VERSION:2.0
PRODID:icalendar-ruby
CALSCALE:GREGORIAN
METHOD:PUBLISH
BEGIN:VEVENT
DTSTAMP:20260422T195923Z
UID:50-1015847@mcglothentemplecogic.org
DTSTART:20261010T150000Z
DTEND:20261010T160000Z
CLASS:PUBLIC
CREATED:20260422T103404
DESCRIPTION:
LAST-MODIFIED:20260422T103404
LOCATION:Conference Line (605) 313-4318 Access Code: 6329078
SUMMARY:Saturday Morning Prayer 
URL;VALUE=URI:https://mcglothentemplecogic.org/events/saturday-morning-pray
 er/2026-10-10
END:VEVENT
END:VCALENDAR
