BEGIN:VCALENDAR
VERSION:2.0
PRODID:icalendar-ruby
CALSCALE:GREGORIAN
METHOD:PUBLISH
BEGIN:VEVENT
DTSTAMP:20260422T232450Z
UID:50-1016875@mcglothentemplecogic.org
DTSTART:20261024T150000Z
DTEND:20261024T160000Z
CLASS:PUBLIC
CREATED:20260422T162135
DESCRIPTION:
LAST-MODIFIED:20260422T162135
LOCATION:Conference Line (605) 313-4318 Access Code: 6329078
SUMMARY:Saturday Morning Prayer 
URL;VALUE=URI:https://mcglothentemplecogic.org/events/saturday-morning-pray
 er/2026-10-24
END:VEVENT
END:VCALENDAR
