BEGIN:VCALENDAR
VERSION:2.0
PRODID:icalendar-ruby
CALSCALE:GREGORIAN
METHOD:PUBLISH
BEGIN:VEVENT
DTSTAMP:20260425T210727Z
UID:78-999911@mcglothentemplecogic.org
DTSTART:20260516T190000Z
DTEND:20260516T220000Z
CLASS:PUBLIC
CREATED:20260417T091052
DESCRIPTION:
LAST-MODIFIED:20260417T091052
LOCATION:McGlothen Temple Church of God in Christ
SUMMARY:Upscale Consignment Sale
URL;VALUE=URI:https://mcglothentemplecogic.org/events/upscale-consignment-s
 ale/2026-05-16
ATTACH;FILENAME=Upscale-Sale.jpeg;FMTTYPE=image/jpeg:https://dq5pwpg1q8ru0.
 cloudfront.net/2026/04/17/16/10/52/77f71c09-9fd9-4f49-9399-241b4d189607/Up
 scale-Sale.jpeg
END:VEVENT
END:VCALENDAR
